BEGIN:VCALENDAR
VERSION:2.0
PRODID:-//ChamberMaster//Event Calendar 2.0//EN
METHOD:PUBLISH
X-PUBLISHED-TTL:P3D
REFRESH-INTERVAL:P3D
CALSCALE:GREGORIAN
BEGIN:VEVENT
DTSTART:20260713T140000Z
DTEND:20260717T200000Z
X-MICROSOFT-CDO-ALLDAYEVENT:FALSE
SUMMARY:Summer Youth Drama Camp: Backstage Crew Theatre Camp - Germantown Performing Arts Center
DESCRIPTION:Enroll your student in this summer camp to participate in Backstage Crew Theatre Camp. This is a week-long camp aiming to teach skills in all things backstage including lighting\, sound\, scenery\, painting\, props making\, costumes\, and more! Students will work together on both Little Mermaid Jr and Finding Nemo Kids to serve as crew for all shows. Students in this camp will be involved in four shows in a backstage capacity. Students involved in this camp will not be cast in either production in acting roles.\n\nTickets to attend the performance are available starting April 1st. This page is for student enrollment only. Backstage Crew Theatre Camp is for campers ages 12-17. Registration opens on March 1st and is open to all. You do not need to be enrolled in the Germantown schools to register.   We do not provide discounts for missed camp attendance. Enrollment in this camp is limited and expected to reach full capacity quickly. Because of this\, students cannot switch between acting camps and crew camps freely once the registration deadline has passed. Students enrolled in backstage crew camp will participate in ALL areas of technical theatre during the day camp and given specialized roles for each performance.\n\nPlease ensure your student can be involved in all performances before signing up for this camp. We will make every effort to make sure each student gets to participate with their preferred performance department\, however we cannot guarantee all students will be given roles in their first choice areas. You will receive a reminder email a week before the camp with other helpful information.\n\nor questions and more information\, contact the PAC Coordinator at HELLIS@GSDWI.ORG or (262) 253-3422.
X-ALT-DESC;FMTTYPE=text/html:Enroll your student in this summer camp to participate in Backstage Crew Theatre Camp. This is a week-long camp aiming to teach skills in all things backstage including lighting\, sound\, scenery\, painting\, props making\, costumes\, and more! Students will work together on both Little Mermaid Jr and Finding Nemo Kids to serve as crew for all shows. Students in this camp will be involved in four shows in a backstage capacity. Students involved in this camp will not be cast in either production in acting roles.<br />\nTickets to attend the performance are available starting April 1st. This page is for student enrollment only. Backstage Crew Theatre Camp is for campers ages 12-17. Registration opens on March 1st and is open to all. You do not need to be enrolled in the Germantown schools to register.&nbsp\; &nbsp\;We do not provide discounts for missed camp attendance. Enrollment in this camp is limited and expected to reach full capacity quickly. Because of this\, students cannot switch between acting camps and crew camps freely once the registration deadline has passed. Students enrolled in backstage crew camp will participate in ALL areas of technical theatre during the day camp and given specialized roles for each performance.<br />\nPlease ensure your student can be involved in all performances before signing up for this camp. We will make every effort to make sure each student gets to participate with their preferred performance department\, however we cannot guarantee all students will be given roles in their first choice areas. You will receive a reminder email a week before the camp with other helpful information.<br />\nor questions and more information\, contact the PAC Coordinator at HELLIS@GSDWI.ORG or (262) 253-3422.
LOCATION:The Germantown Performing Arts Center W180 N11501 N River Lane Germantown\, WI 53022
UID:e.2331.11142
SEQUENCE:3
DTSTAMP:20260420T220631Z
URL:https://www.germantownchamber.org/events/details/summer-youth-drama-camp-backstage-crew-theatre-camp-germantown-performing-arts-center-11142
END:VEVENT

END:VCALENDAR
