BEGIN:VCALENDAR
VERSION:2.0
PRODID:-//ChamberMaster//Event Calendar 2.0//EN
METHOD:PUBLISH
X-PUBLISHED-TTL:P3D
REFRESH-INTERVAL:P3D
CALSCALE:GREGORIAN
BEGIN:VEVENT
DTSTART:20260713T140000Z
DTEND:20260717T200000Z
X-MICROSOFT-CDO-ALLDAYEVENT:FALSE
SUMMARY:Summer Youth Drama Camp: Finding Nemo Kids - Germantown Performing Arts Center
DESCRIPTION:Enroll your student in this summer camp to participate in Finding Nemo Kids. This is a week-long camp aiming to teach skills in acting\, music\, dancing\, and technical theatre! Students will work together on this 40 min show to present to their parents at the end of the week.\n\n\n\nThere will be two shows. Tickets to attend the performance are available starting April 1st.\n\n\n\nThis page is for student enrollment only.\n\n\n\nFinding Nemo Kids is for campers ages 8-12. Campers aged 12-17 can enroll in "Little Mermaid Jr". Campers age 12 may choose which camp to participate in\, but not both.\n\n\n\nRegistration opens on March 1st and is open to all. You do not need to be enrolled in the Germantown schools to register. Please provide your student with a cold-bagged lunch each day.  We do not provide discounts for missed camp attendance. All students will receive roles in the show.\n\n\n\nYou will receive a reminder email a week before the camp with other helpful information. For questions and more information\, contact the PAC Coordinator at HELLIS@GSDWI.ORG or (262) 253-3422.
X-ALT-DESC;FMTTYPE=text/html:Enroll your student in this summer camp to participate in Finding Nemo Kids. This is a week-long camp aiming to teach skills in acting\, music\, dancing\, and technical theatre! Students will work together on this 40 min show to present to their parents at the end of the week.<br />\n<br />\nThere will be two shows. Tickets to attend the performance are available starting April 1st.<br />\n<br />\nThis page is for student enrollment only.<br />\n<br />\nFinding Nemo Kids is for campers ages 8-12. Campers aged 12-17 can enroll in &quot\;Little Mermaid Jr&quot\;. Campers age 12 may choose which camp to participate in\, but not both.<br />\n<br />\nRegistration opens on March 1st and is open to all. You do not need to be enrolled in the Germantown schools to register. Please provide your student with a cold-bagged lunch each day.&nbsp\; We do not provide discounts for missed camp attendance. All students will receive roles in the show.<br />\n<br />\nYou will receive a reminder email a week before the camp with other helpful information. For questions and more information\, contact the PAC Coordinator at HELLIS@GSDWI.ORG or (262) 253-3422.
LOCATION:The Germantown Performing Arts Center W180 N11501 N River Lane Germantown\, WI 53022
UID:e.2331.11141
SEQUENCE:3
DTSTAMP:20260420T215628Z
URL:https://www.germantownchamber.org/events/details/summer-youth-drama-camp-finding-nemo-kids-germantown-performing-arts-center-11141
END:VEVENT

END:VCALENDAR
