BEGIN:VCALENDAR
VERSION:2.0
PRODID:-//ChamberMaster//Event Calendar 2.0//EN
METHOD:PUBLISH
X-PUBLISHED-TTL:P3D
REFRESH-INTERVAL:P3D
CALSCALE:GREGORIAN
BEGIN:VEVENT
DTSTART:20260706T140000Z
DTEND:20260717T200000Z
X-MICROSOFT-CDO-ALLDAYEVENT:FALSE
SUMMARY:Summer Youth Drama Camp: The Little Mermaid Jr - Germantown Performing Arts Center
DESCRIPTION:Enroll your student in this summer camp to participate in Little Mermaid Jr This is a two week camp aiming to teach skills in acting\, music\, dancing\, and technical theatre! Students will work together on this 60 min show to present to their parents at the end of the camp. There will be two shows.\n\n\n\nTickets to attend the performance are available starting April 1st. This page is for student enrollment only.\n\n\n\nLittle Mermaid Jr is for campers ages 12-17. Campers aged 8-12 can enroll in "Finding Nemo Kids". We do not provide discounts for missed camp attendance. All students will receive roles in the show. An email with other helpful information will be sent a week before camp.\n\nFor questions and more information\, contact the PAC Coordinator at HELLIS@GSDWI.ORG or (262) 253-3422.
X-ALT-DESC;FMTTYPE=text/html:Enroll your student in this summer camp to participate in Little Mermaid Jr This is a two week camp aiming to teach skills in acting\, music\, dancing\, and technical theatre! Students will work together on this 60 min show to present to their parents at the end of the camp. There will be two shows.<br />\n<br />\nTickets to attend the performance are available starting April 1st. This page is for student enrollment only.<br />\n<br />\nLittle Mermaid Jr is for campers ages 12-17. Campers aged 8-12 can enroll in &quot\;Finding Nemo Kids&quot\;. We do not provide discounts for missed camp attendance. All students will receive roles in the show. An email with other helpful information will be sent a week before camp.<br />\nFor questions and more information\, contact the PAC Coordinator at HELLIS@GSDWI.ORG or (262) 253-3422.
LOCATION:The Germantown Performing Arts Center W180 N11501 N River Lane Germantown\, WI 53022
UID:e.2331.11140
SEQUENCE:3
DTSTAMP:20260420T225013Z
URL:https://www.germantownchamber.org/events/details/summer-youth-drama-camp-the-little-mermaid-jr-germantown-performing-arts-center-11140
END:VEVENT

END:VCALENDAR
