BEGIN:VCALENDAR
VERSION:2.0
PRODID:-//ChamberMaster//Event Calendar 2.0//EN
METHOD:PUBLISH
X-PUBLISHED-TTL:P3D
REFRESH-INTERVAL:P3D
CALSCALE:GREGORIAN
BEGIN:VEVENT
DTSTART:20260215T030000Z
DTEND:20260215T050000Z
X-MICROSOFT-CDO-ALLDAYEVENT:FALSE
SUMMARY:Sushi Roll - BuB's Irish Pub
DESCRIPTION:Sushi Roll - Animazing Cover Band From Chicago!\n\n\nIf we had only one word to describe Chicago cover band sensations\, Sushi Roll\, it would be ANIMAZING!
X-ALT-DESC;FMTTYPE=text/html:<div class="section-head-in" style="box-sizing: inherit\; margin-bottom: 20px\; color: rgb(64\, 64\, 64)\; font-family: Montserrat\, sans-serif\; font-size: 18px\; background-color: rgba(0\, 0\, 0\, 0.5)\;">\n<p class="header-desc" style="box-sizing: inherit\; margin: 0px\; font-size: 24px\; color: rgb(255\, 255\, 255)\; line-height: 24px\; text-shadow: black 1px 1px 0px\; font-family: Roboto\, sans-serif\; font-weight: 600\;">Sushi Roll - Animazing Cover Band From Chicago!</p>\n</div>\n\n<p style="box-sizing: inherit\; margin: 0px 0px 25px\; font-size: 16px\; color: rgb(255\, 255\, 255)\; line-height: 24px\; text-shadow: black 1px 1px 0px\; font-family: Montserrat\, sans-serif\; background-color: rgba(0\, 0\, 0\, 0.5)\;">If we had only one word to describe Chicago cover band sensations\, Sushi Roll\, it would be&hellip\;ANIMAZING!</p>\n
LOCATION:BuB's Irish Pub N116W16218 Main St Germantown
UID:e.2331.11030
SEQUENCE:3
DTSTAMP:20260420T051730Z
URL:https://www.germantownchamber.org/events/details/sushi-roll-bub-s-irish-pub-11030
END:VEVENT

END:VCALENDAR
