BEGIN:VCALENDAR
VERSION:2.0
PRODID:-//ChamberMaster//Event Calendar 2.0//EN
METHOD:PUBLISH
X-PUBLISHED-TTL:P3D
REFRESH-INTERVAL:P3D
CALSCALE:GREGORIAN
BEGIN:VEVENT
DTSTART:20260123T190000Z
DTEND:20260123T210000Z
X-MICROSOFT-CDO-ALLDAYEVENT:FALSE
SUMMARY:Take a Tour\, Get a Pie - Gables of Germantown
DESCRIPTION:Join us for Take a Tour\, Take a Pie! Stop in on Friday\, January 23 from 1 to 3 PM and tour our Independent Living community and enjoy a pie on us. Come and see how we enjoy life every day at The Gables of Germantown!
X-ALT-DESC;FMTTYPE=text/html:<div class="xdj266r x14z9mp xat24cr x1lziwak x1vvkbs" style="overflow-wrap: break-word\; margin-inline: 0px\; margin-bottom: 0px\; margin-top: 0px\; font-family: &quot\;Segoe UI Historic&quot\;\, &quot\;Segoe UI&quot\;\, Helvetica\, Arial\, sans-serif\; color: rgb(8\, 8\, 9)\; font-size: 15px\;">Join us for Take a Tour\, Take a Pie! Stop in on Friday\, January 23 from 1 to 3 PM and tour our Independent Living community and enjoy a pie on us. Come and see how we enjoy life every day at The Gables of Germantown!</div>\n
LOCATION:Gables of Germantown N112W17145 Mequon Rd Germantown\, WI
UID:e.2331.10823
SEQUENCE:3
DTSTAMP:20260420T154726Z
URL:https://www.germantownchamber.org/events/details/take-a-tour-get-a-pie-gables-of-germantown-10823
END:VEVENT

END:VCALENDAR
