BEGIN:VCALENDAR
VERSION:2.0
PRODID:-//ChamberMaster//Event Calendar 2.0//EN
METHOD:PUBLISH
X-PUBLISHED-TTL:P3D
REFRESH-INTERVAL:P3D
CALSCALE:GREGORIAN
BEGIN:VEVENT
DTSTART:20251127T170000Z
DTEND:20251127T190000Z
X-MICROSOFT-CDO-ALLDAYEVENT:FALSE
SUMMARY:Thanksgiving Dinner - Faith Lutheran Church
DESCRIPTION:Open for all to come enjoy a Thanksgiving dinner    \n\nHosted by Washington County
X-ALT-DESC;FMTTYPE=text/html:Open for all to come enjoy a Thanksgiving dinner&nbsp\;&nbsp\;&nbsp\;&nbsp\;<br />\nHosted by Washington County
LOCATION:Faith Lutheran Church W172N11187 Division Rd Germantown
UID:e.2331.9705
SEQUENCE:3
DTSTAMP:20260421T102444Z
URL:https://www.germantownchamber.org/events/details/thanksgiving-dinner-faith-lutheran-church-9705
END:VEVENT

END:VCALENDAR
