BEGIN:VCALENDAR
VERSION:2.0
PRODID:-//ChamberMaster//Event Calendar 2.0//EN
METHOD:PUBLISH
X-PUBLISHED-TTL:P3D
REFRESH-INTERVAL:P3D
CALSCALE:GREGORIAN
BEGIN:VEVENT
DTSTART:20260502T000000Z
DTEND:20260503T213000Z
X-MICROSOFT-CDO-ALLDAYEVENT:FALSE
SUMMARY:The Addams Family Musical: School Edition - Germantown Performing Arts Cente
DESCRIPTION:Dramatic Impact presents its spring musical: Addams Family The Musical: School Edition When you're an Addams\, family is what matters most! This musical comedy tells the story of Wednesday Addams\, who has grown up and fallen in love with a "normal" boy\, Lucas Beineke\, leading to a comedic clash of cultures when their families meet for dinner. Recommended for ages 12 and up.
X-ALT-DESC;FMTTYPE=text/html:Dramatic Impact presents its spring musical: Addams Family The Musical: School Edition When you&rsquo\;re an Addams\, family is what matters most! This musical comedy tells the story of Wednesday Addams\, who has grown up and fallen in love with a &quot\;normal&quot\; boy\, Lucas Beineke\, leading to a comedic clash of cultures when their families meet for dinner. Recommended for ages 12 and up.
LOCATION:The Germantown Performing Arts Center W180 N11501 N River Lane Germantown\, WI 53022
UID:e.2331.11138
SEQUENCE:3
DTSTAMP:20260422T083959Z
URL:https://www.germantownchamber.org/events/details/the-addams-family-musical-school-edition-germantown-performing-arts-cente-11138
END:VEVENT

END:VCALENDAR
