BEGIN:VCALENDAR
VERSION:2.0
PRODID:-//ChamberMaster//Event Calendar 2.0//EN
METHOD:PUBLISH
X-PUBLISHED-TTL:P3D
REFRESH-INTERVAL:P3D
CALSCALE:GREGORIAN
BEGIN:VEVENT
DTSTART:20260301T010000Z
DTEND:20260301T033000Z
X-MICROSOFT-CDO-ALLDAYEVENT:FALSE
SUMMARY:The Crown Jewels: A Tribute to Queen - Germantown Performing Arts Center
DESCRIPTION:Presented by: The Germantown PAC Community Series The Crown Jewels is a premier tribute band dedicated to celebrating the legendary rock band Queen\, known for their spectacular live performances and iconic hits. They are recognized as one of the Midwest's leading tribute bands to Queen\, hailing from Minneapolis. They perform a wide array of Queen's greatest hits\, arena anthems\, and top ten singles\, aiming to recreate the unique sound and energy that made Queen a global phenomenon. Their performances are characterized by no backing tracks\, ensuring a live experience that closely mirrors the original band's dynamic stage presence. mnqueentribute.com Thank you to The Youth Performing Arts Fund and Kiwanis of Germantown for helping sponsor this year's PAC Community Series Events!
X-ALT-DESC;FMTTYPE=text/html:Presented by: The Germantown PAC Community Series The Crown Jewels is a premier tribute band dedicated to celebrating the legendary rock band Queen\, known for their spectacular live performances and iconic hits. They are recognized as one of the Midwest&#39\;s leading tribute bands to Queen\, hailing from Minneapolis. They perform a wide array of Queen&#39\;s greatest hits\, arena anthems\, and top ten singles\, aiming to recreate the unique sound and energy that made Queen a global phenomenon. Their performances are characterized by no backing tracks\, ensuring a live experience that closely mirrors the original band&#39\;s dynamic stage presence. mnqueentribute.com Thank you to The Youth Performing Arts Fund and Kiwanis of Germantown for helping sponsor this year&#39\;s PAC Community Series Events!
LOCATION:The Germantown Performing Arts Center W180 N11501 N River Lane Germantown\, WI
UID:e.2331.11136
SEQUENCE:3
DTSTAMP:20260420T052307Z
URL:https://www.germantownchamber.org/events/details/the-crown-jewels-a-tribute-to-queen-germantown-performing-arts-center-11136
END:VEVENT

END:VCALENDAR
