BEGIN:VCALENDAR
VERSION:2.0
PRODID:-//ChamberMaster//Event Calendar 2.0//EN
METHOD:PUBLISH
X-PUBLISHED-TTL:P3D
REFRESH-INTERVAL:P3D
CALSCALE:GREGORIAN
BEGIN:VEVENT
DTSTART:20260222T030000Z
DTEND:20260222T055000Z
X-MICROSOFT-CDO-ALLDAYEVENT:FALSE
SUMMARY:The Glam Band - BuB's Irish Pub
DESCRIPTION:A few friends sitting at a bar talking about how cool 80's rock was led to an inaugural show on a Tuesday night at Riders Saloon in Kimberly back in 2007. The crowd reaction at that first event was unbelievably positive\, and The Glam Band was born! The band started out as a 5 piece ensemble\, and later added a keyboardist in 2013. This 6 piece band is now in their 15th year of bringing a KILLER decadent 80s rock show to venues across Green Bay WI and The Fox Cities!\n\nThe band gets it name from the Glam Metal era of music\, also known as Hair Metal or Pop Metal. It is a subgenre of hard rock and heavy metal\, and is most known for it's catchy hooks and guitar riffs. This style can be traced back to acts like Aerosmith\, Alice Cooper\, Cheap Trick\, Kiss\, The New York Dolls\, and Van Halen.
X-ALT-DESC;FMTTYPE=text/html:<p style="box-sizing: inherit\; margin: 0px 0px 25px\; font-size: 16px\; color: rgb(255\, 255\, 255)\; line-height: 24px\; text-shadow: black 1px 1px 0px\; font-family: Montserrat\, sans-serif\; background-color: rgba(0\, 0\, 0\, 0.5)\;">A few friends sitting at a bar talking about how cool 80&rsquo\;s rock was led to an inaugural show on a Tuesday night at Riders Saloon in Kimberly back in 2007. The crowd reaction at that first event was unbelievably positive\, and The Glam Band was born! The band started out as a 5 piece ensemble\, and later added a keyboardist in 2013. This 6 piece band is now in their 15th year of bringing a KILLER decadent 80s rock show to venues across Green Bay WI and The Fox Cities!</p>\n\n<p style="box-sizing: inherit\; margin: 0px 0px 25px\; font-size: 16px\; color: rgb(255\, 255\, 255)\; line-height: 24px\; text-shadow: black 1px 1px 0px\; font-family: Montserrat\, sans-serif\; background-color: rgba(0\, 0\, 0\, 0.5)\;">The band gets it name from the Glam Metal era of music\, also known as Hair Metal or Pop Metal. It is a subgenre of hard rock and heavy metal\, and is most known for it&rsquo\;s catchy hooks and guitar riffs. This style can be traced back to acts like Aerosmith\, Alice Cooper\, Cheap Trick\, Kiss\, The New York Dolls\, and Van Halen.</p>\n
LOCATION:Bub's Irish Pub N116W16218 Main St Germantown
UID:e.2331.10681
SEQUENCE:3
DTSTAMP:20260420T061713Z
URL:https://www.germantownchamber.org/events/details/the-glam-band-bub-s-irish-pub-10681
END:VEVENT

END:VCALENDAR
