BEGIN:VCALENDAR
VERSION:2.0
PRODID:-//ChamberMaster//Event Calendar 2.0//EN
METHOD:PUBLISH
X-PUBLISHED-TTL:P3D
REFRESH-INTERVAL:P3D
CALSCALE:GREGORIAN
BEGIN:VEVENT
DTSTART:20251123T150000Z
DTEND:20251123T180000Z
X-MICROSOFT-CDO-ALLDAYEVENT:FALSE
SUMMARY:The Jingle Bell Shop - Belle Salon
DESCRIPTION:Join us for our holiday women owned business vendor event . The Jingle BELLE Shop! Shop the most perfect stocking stuffers and holiday gifts from some our favorite local\, women owned businesses! This event includes Kasey's Closet\, Repeated Rhythms (headbands)\, Beneath the Pines Candle Company\, Fat Stacks (bracelets) and TBR MKE (To be Read). Belle Salon will also be running specials and a build your own gift set deal! Be sure to stop in
X-ALT-DESC;FMTTYPE=text/html:<span style="color: rgb(8\, 8\, 9)\; font-family: &quot\;Segoe UI Historic&quot\;\, &quot\;Segoe UI&quot\;\, Helvetica\, Arial\, sans-serif\; font-size: 15px\;">Join us for our holiday women owned business vendor event&hellip\;. The Jingle BELLE Shop! Shop the most perfect stocking stuffers and holiday gifts from some our favorite local\, women owned businesses! This event includes Kasey&rsquo\;s Closet\, Repeated Rhythms (headbands)\, Beneath the Pines Candle Company\, Fat Stacks (bracelets) and TBR MKE (To be Read). Belle Salon will also be running specials and a build your own gift set deal! Be sure to stop in</span>
LOCATION:Belle Salon N112W16510 Mequon Rd Suite D Germantown
UID:e.2331.10300
SEQUENCE:3
DTSTAMP:20260421T102731Z
URL:https://www.germantownchamber.org/events/details/the-jingle-bell-shop-belle-salon-10300
END:VEVENT

END:VCALENDAR
