BEGIN:VCALENDAR
VERSION:2.0
PRODID:-//ChamberMaster//Event Calendar 2.0//EN
METHOD:PUBLISH
X-PUBLISHED-TTL:P3D
REFRESH-INTERVAL:P3D
CALSCALE:GREGORIAN
BEGIN:VEVENT
DTSTART;VALUE=DATE:20251101
DTEND;VALUE=DATE:20251102
TRANSP:TRANSPARENT
X-MICROSOFT-CDO-ALLDAYEVENT:TRUE
SUMMARY:The One Act Play that Goes Wrong - Germantown PAC
DESCRIPTION:The One Act Play That Goes Wrong presented by Germantown HS Dramatic Impact\n\nThis is a black-box style production with intimate seating\, not a mainstage show.\n\n4 Shows
X-ALT-DESC;FMTTYPE=text/html:<p style="margin: -5px 0px 20px\; padding: 0px\; color: rgb(33\, 33\, 33)\; font-family: Roboto\, Arial\, Helvetica\, sans-serif\; font-size: 15px\;">The One Act Play That Goes Wrong presented by Germantown HS Dramatic Impact</p>\n\n<p style="margin: 20px 0px\; padding: 0px\; color: rgb(33\, 33\, 33)\; font-family: Roboto\, Arial\, Helvetica\, sans-serif\; font-size: 15px\;">This is a black-box style production with intimate seating\, not a mainstage show.</p>\n\n<p style="margin: 20px 0px\; padding: 0px\; color: rgb(33\, 33\, 33)\; font-family: Roboto\, Arial\, Helvetica\, sans-serif\; font-size: 15px\;">4 Shows</p>\n
LOCATION:Germantown Performing Arts Center W180 N11501 River Lane\, Germantown\, WI 53022
UID:e.2331.9690
SEQUENCE:3
DTSTAMP:20260421T114752Z
URL:https://www.germantownchamber.org/events/details/the-one-act-play-that-goes-wrong-germantown-pac-9690
END:VEVENT

END:VCALENDAR
