BEGIN:VCALENDAR
VERSION:2.0
PRODID:-//ChamberMaster//Event Calendar 2.0//EN
METHOD:PUBLISH
X-PUBLISHED-TTL:P3D
REFRESH-INTERVAL:P3D
CALSCALE:GREGORIAN
BEGIN:VEVENT
DTSTART:20251109T200000Z
DTEND:20251109T220000Z
X-MICROSOFT-CDO-ALLDAYEVENT:FALSE
SUMMARY:The Spongebob Musical - Germantown PAC
DESCRIPTION:Christian Youth Theatre of Milwaukee presents: The Spongebob Musical
X-ALT-DESC;FMTTYPE=text/html:<span style="color: rgb(33\, 33\, 33)\; font-family: Roboto\, Arial\, Helvetica\, sans-serif\; font-size: 15px\;">Christian Youth Theatre of Milwaukee presents: The Spongebob Musical</span>
LOCATION:Germantown Performing Arts Center W180 N11501 River Lane\, Germantown\, WI 53022
UID:e.2331.9694
SEQUENCE:3
DTSTAMP:20260421T115448Z
URL:https://www.germantownchamber.org/events/details/the-spongebob-musical-germantown-pac-9694
END:VEVENT

END:VCALENDAR
