BEGIN:VCALENDAR
VERSION:2.0
PRODID:-//ChamberMaster//Event Calendar 2.0//EN
METHOD:PUBLISH
X-PUBLISHED-TTL:P3D
REFRESH-INTERVAL:P3D
CALSCALE:GREGORIAN
BEGIN:VEVENT
DTSTART:20260501T150000Z
DTEND:20260503T210000Z
X-MICROSOFT-CDO-ALLDAYEVENT:FALSE
SUMMARY:The Vault Pet Supplies Anniversary Celebration
DESCRIPTION:We're turning 5 and we're throwing a three-day celebration you don't want to miss!\n\nWhat's happening?\n\n	Sales\n	Samples\n	Vendors\n	Food Trucks\n	Adoptable Pets\n	Giveaways\n	Lure course for dogs (Sunday)\n	Treats\, fun\, and good vibes for pets & people alike\n\nWhether you're a longtime Vaulter or brand new to the pack\, Vaultfest 5 is all about celebrating our amazing community!\n\nCome party with us\, shop the deals\, meet awesome vendors\, and help us celebrate 5 years!
X-ALT-DESC;FMTTYPE=text/html:We&#39\;re turning 5 and we&#39\;re throwing a three-day celebration you don&#39\;t want to miss!<br />\nWhat&#39\;s happening?\n<ul>\n	<li>Sales</li>\n	<li>Samples</li>\n	<li>Vendors</li>\n	<li>Food Trucks</li>\n	<li>Adoptable Pets</li>\n	<li>Giveaways</li>\n	<li>Lure course for dogs (Sunday)</li>\n	<li>Treats\, fun\, and good vibes for pets &amp\; people alike</li>\n</ul>\nWhether you&#39\;re a longtime Vaulter or brand new to the pack\, Vaultfest 5 is all about celebrating our amazing community!<br />\nCome party with us\, shop the deals\, meet awesome vendors\, and help us celebrate&nbsp\;<strong>5 years!</strong><br />\n&nbsp\;
LOCATION:The Vault Pet Supplies N116W16316 Main Street Germantown WI 53022
UID:e.2331.11406
SEQUENCE:3
DTSTAMP:20260420T090340Z
URL:https://www.germantownchamber.org/events/details/the-vault-pet-supplies-anniversary-celebration-11406
END:VEVENT

END:VCALENDAR
