BEGIN:VCALENDAR
VERSION:2.0
PRODID:-//ChamberMaster//Event Calendar 2.0//EN
METHOD:PUBLISH
X-PUBLISHED-TTL:P3D
REFRESH-INTERVAL:P3D
CALSCALE:GREGORIAN
BEGIN:VEVENT
DTSTART:20260115T150000Z
DTEND:20260115T160000Z
X-MICROSOFT-CDO-ALLDAYEVENT:FALSE
SUMMARY:Toddler Story Time - Chick-fil-A
DESCRIPTION:Join us for Toddler Story Time!\n\nBring your toddler in for stories and fun craft.
X-ALT-DESC;FMTTYPE=text/html:Join us for Toddler Story Time!<br />\nBring your toddler in for stories and fun craft.
LOCATION:Chick-fil-A W185 N9590 Bancroft D Menomonee Falls
UID:e.2331.10686
SEQUENCE:3
DTSTAMP:20260420T170943Z
URL:https://www.germantownchamber.org/events/details/toddler-story-time-chick-fil-a-10686
END:VEVENT

END:VCALENDAR
