BEGIN:VCALENDAR
VERSION:2.0
PRODID:-//ChamberMaster//Event Calendar 2.0//EN
METHOD:PUBLISH
X-PUBLISHED-TTL:P3D
REFRESH-INTERVAL:P3D
CALSCALE:GREGORIAN
BEGIN:VEVENT
DTSTART:20251105T150000Z
DTEND:20251105T220000Z
X-MICROSOFT-CDO-ALLDAYEVENT:FALSE
SUMMARY:US Small Business Administration - Germantown Chamber
DESCRIPTION:The Germantown Area Chamber of Commerce is honored to be supporting the US Small Business Administration (SBA) in their stay in Washington County to provide assistance and inform homeowners\, renters\, businesses and most private non-profits in Washington County who were adversely affected by the severe storms\, winds\, flooding\, and mudslides on August 9-12\, 2025 that they can apply for a low-interest rate disaster loan to repair or replace their disaster-damaged property.\n\nFor more information please see https://www.germantownchamber.org/education-seminars
X-ALT-DESC;FMTTYPE=text/html:<span style="color: rgb(8\, 8\, 9)\; font-family: &quot\;Segoe UI Historic&quot\;\, &quot\;Segoe UI&quot\;\, Helvetica\, Arial\, sans-serif\; font-size: 15px\; white-space-collapse: preserve\;">The Germantown Area Chamber of Commerce is honored to be supporting the US Small Business Administration (SBA) in their stay in Washington County to provide assistance and inform homeowners\, renters\, businesses and most private non-profits in Washington County who were adversely affected by the severe storms\, winds\, flooding\, and mudslides on August 9-12\, 2025 that they can apply for a low-interest rate disaster loan to repair or replace their disaster-damaged property.<br>\nFor more information please see </span>https://www.germantownchamber.org/education-seminars
LOCATION:Germantown Area Chamber of Commerce N112W16760 Mequon Rd Germantown
UID:e.2331.10296
SEQUENCE:3
DTSTAMP:20260421T130030Z
URL:https://www.germantownchamber.org/events/details/us-small-business-administration-germantown-chamber-11-05-2025-10296
END:VEVENT

END:VCALENDAR
