BEGIN:VCALENDAR
VERSION:2.0
PRODID:-//ChamberMaster//Event Calendar 2.0//EN
METHOD:PUBLISH
X-PUBLISHED-TTL:P3D
REFRESH-INTERVAL:P3D
CALSCALE:GREGORIAN
BEGIN:VEVENT
DTSTART:20261108T170000Z
DTEND:20261108T180000Z
X-MICROSOFT-CDO-ALLDAYEVENT:FALSE
SUMMARY:Veterans Day Ceremony
DESCRIPTION:Veterans Day Ceremony\n11am gather at the Veterans Memorial\, at the corner of Park Avenue & Freistadt Road
X-ALT-DESC;FMTTYPE=text/html:<h2 style="font-style:italic\;">Veterans Day Ceremony</h2>\n<span style="font-size:16px\;">11am gather at the Veterans Memorial\, at the corner of Park Avenue &amp\; Freistadt Road</span>
LOCATION:Germantown American Legion Post #1 N120 W15932 Freistadt Road Germantown\, WI 53022
UID:e.2331.10661
SEQUENCE:3
DTSTAMP:20260423T160132Z
URL:https://www.germantownchamber.org/events/details/veterans-day-ceremony-10661
END:VEVENT

END:VCALENDAR
