BEGIN:VCALENDAR
VERSION:2.0
PRODID:-//ChamberMaster//Event Calendar 2.0//EN
METHOD:PUBLISH
X-PUBLISHED-TTL:P3D
REFRESH-INTERVAL:P3D
CALSCALE:GREGORIAN
BEGIN:VEVENT
DTSTART:20200630T120000Z
DTEND:20200630T160000Z
X-MICROSOFT-CDO-ALLDAYEVENT:FALSE
SUMMARY:Washington County 2035
DESCRIPTION:Keynote Speaker - David Zach\n\nShares his insights on the future of Washington County for the next fifteen years and beyond.  Instead of just fascinating and/or frightening forecasts\, you'll get a "toolkit"\, a set of questions to ask on how to put all those fads and trends in a practical perspective.\n\nFollowing the keynote\, local CEOs will discuss how technology trends and innovation are changing the marketplace and what you can do to remain competitive and relevant for the next two decades.\n\nW. Kent Lorenz\, Retired Chairman\, CEO\, Acieta LLC\n\nDavid J.Decker\, President\, Decker Properties\n\n\n\nFollwing the presentations the program continues with 12 unique roundtable discussions.  Attend any 3.  Topics include\n\nEducation & Upskilling your Workforce\n\nEconomic Development - Planning for 2035\n\nInvesting in Leadership\n\nTransportation\n\nFuture of Housing & Construction Trends\n\nTechnology Trends for Manufacturers\n\nTalent Attraction and Creating strong cultures\n\nWealth Preservation
X-ALT-DESC;FMTTYPE=text/html:Keynote Speaker - David Zach<br />\nShares his insights on the future of Washington County for the next fifteen years and beyond.&nbsp\; Instead of just fascinating and/or frightening forecasts\, you&#39\;ll get a &quot\;toolkit&quot\;\, a set of questions to ask on how to put all those fads and trends in a practical perspective.<br />\nFollowing the keynote\, local CEOs will discuss how technology trends and innovation are changing the marketplace and what you can do to remain competitive and relevant for the next two decades.<br />\nW. Kent Lorenz\, Retired Chairman\, CEO\, Acieta LLC<br />\nDavid J.Decker\, President\, Decker Properties<br />\n<br />\nFollwing the presentations the program continues with 12 unique roundtable discussions.&nbsp\; Attend any 3.&nbsp\; Topics include<br />\nEducation &amp\; Upskilling your Workforce<br />\nEconomic Development - Planning for 2035<br />\nInvesting in Leadership<br />\nTransportation<br />\nFuture of Housing &amp\; Construction Trends<br />\nTechnology Trends for Manufacturers<br />\nTalent Attraction and Creating strong cultures<br />\nWealth Preservation&nbsp\;&nbsp\;&nbsp\;&nbsp\;
LOCATION:Location TBD
UID:e.2331.3623
SEQUENCE:3
DTSTAMP:20260424T014355Z
URL:https://www.germantownchamber.org/events/details/washington-county-2035-3623
END:VEVENT

END:VCALENDAR
