BEGIN:VCALENDAR
VERSION:2.0
PRODID:-//ChamberMaster//Event Calendar 2.0//EN
METHOD:PUBLISH
X-PUBLISHED-TTL:P3D
REFRESH-INTERVAL:P3D
CALSCALE:GREGORIAN
BEGIN:VEVENT
DTSTART:20260618T223000Z
DTEND:20260619T013000Z
X-MICROSOFT-CDO-ALLDAYEVENT:FALSE
SUMMARY:Washington County 7th Annual Juneteenth Celebration
DESCRIPTION:Join us to experience inspiring remarks\, a heartfelt invocation\, the National Anthem and a power reading of the Juneteenth Proclamation.
X-ALT-DESC;FMTTYPE=text/html:Join us to experience inspiring remarks\, a heartfelt invocation\, the National Anthem and a power reading of the Juneteenth Proclamation.
LOCATION:Downtown West Bend Music on Main Stage Old Settlers Park 200 N Main St West Bend
UID:e.2331.11431
SEQUENCE:3
DTSTAMP:20260423T110929Z
URL:https://www.germantownchamber.org/events/details/washington-county-7th-annual-juneteenth-celebration-11431
END:VEVENT

END:VCALENDAR
