BEGIN:VCALENDAR
VERSION:2.0
PRODID:-//ChamberMaster//Event Calendar 2.0//EN
METHOD:PUBLISH
X-PUBLISHED-TTL:P3D
REFRESH-INTERVAL:P3D
CALSCALE:GREGORIAN
BEGIN:VEVENT
DTSTART;VALUE=DATE:20260130
DTEND;VALUE=DATE:20260202
TRANSP:TRANSPARENT
X-MICROSOFT-CDO-ALLDAYEVENT:TRUE
SUMMARY:Washington County Builders Association Expo - Washington County Fair Park
DESCRIPTION:The WCBA Home Building & Remodeling Expo is your one-stop shop for home inspiration!
X-ALT-DESC;FMTTYPE=text/html:<div dir="auto" style="font-family: &quot\;Segoe UI Historic&quot\;\, &quot\;Segoe UI&quot\;\, Helvetica\, Arial\, sans-serif\; color: rgb(8\, 8\, 9)\; font-size: 15px\; white-space-collapse: preserve\;">The WCBA Home Building &amp\; Remodeling Expo is your one-stop shop for home inspiration!</div>\n
LOCATION:Washington County Fair Park West Bend Insurance Pavilion 3000 Hwy PV\, West Bend
UID:e.2331.10685
SEQUENCE:3
DTSTAMP:20260420T052100Z
URL:https://www.germantownchamber.org/events/details/washington-county-builders-association-expo-washington-county-fair-park-10685
END:VEVENT

END:VCALENDAR
