BEGIN:VCALENDAR
VERSION:2.0
PRODID:-//ChamberMaster//Event Calendar 2.0//EN
METHOD:PUBLISH
X-PUBLISHED-TTL:P3D
REFRESH-INTERVAL:P3D
CALSCALE:GREGORIAN
BEGIN:VEVENT
DTSTART:20251121T000000Z
DTEND:20251121T020000Z
X-MICROSOFT-CDO-ALLDAYEVENT:FALSE
SUMMARY:When Right & Wrong Collide: Living with Moral Trauma - Germantown Community Coalition
DESCRIPTION:What happens when our sense of right and wrong is shaken to its core? This presentation explores moral trauma psychological and spiritual distress that arises when deeply held beliefs and values are violated. Participants will learn how moral trauma develops\, its impact on mental health and relationships\, and evidence-based approaches to healing and resilience.\n\nParticipants will leave with an understanding of what moral trauma is\, how it affects people\, and what resources they can leverage to address and/or minimize the impacts.\n\n \nGreg Young\, M.Div. CCISM\n\nGreg Young serves as Head Chaplain and Critical Incident Stress Debriefer for the Germantown Police Department and pastor of a Congregational Church in Germantown\, WI. With degrees from Purdue University and United Theological Seminary\, and clinical training in pastoral psychotherapy\, he has extensive experience supporting first responders and communities in crisis.
X-ALT-DESC;FMTTYPE=text/html:<div class="xdj266r x14z9mp xat24cr x1lziwak x1vvkbs" style="overflow-wrap: break-word\; margin-inline: 0px\; margin-bottom: 0px\; margin-top: 0px\; font-family: &quot\;Segoe UI Historic&quot\;\, &quot\;Segoe UI&quot\;\, Helvetica\, Arial\, sans-serif\; color: rgb(8\, 8\, 9)\; font-size: 15px\;">What happens when our sense of right and wrong is shaken to its core? This presentation explores moral trauma&mdash\;psychological and spiritual distress that arises when deeply held beliefs and values are violated. Participants will learn how moral trauma develops\, its impact on mental health and relationships\, and evidence-based approaches to healing and resilience.</div>\n\n<div class="x14z9mp xat24cr x1lziwak x1vvkbs xtlvy1s" style="overflow-wrap: break-word\; margin-top: 0.5em\; margin-inline: 0px\; margin-bottom: 0px\; font-family: &quot\;Segoe UI Historic&quot\;\, &quot\;Segoe UI&quot\;\, Helvetica\, Arial\, sans-serif\; color: rgb(8\, 8\, 9)\; font-size: 15px\;">Participants will leave with an understanding of what moral trauma is\, how it affects people\, and what resources they can leverage to address and/or minimize the impacts.<br />\n&nbsp\;\n<p class="fxTZ7 fvFfv lRgAI xFml2" dir="auto" id="viewer-9uvvy3111" style="background: transparent\; border: 0px\; margin: 0px\; outline: 0px\; padding: 0px\; vertical-align: baseline\; -webkit-tap-highlight-color: rgba(0\, 0\, 0\, 0)\; color: rgb(49\, 49\, 43)\; font-family: avenir-lt-w01_35-light1475496\, sans-serif\; font-size: 16px\; line-height: 1.5\; min-height: auto\; text-align: initial\; box-sizing: inherit\; white-space-collapse: preserve\;"><span class="zzOoR" style="background: transparent\; border: 0px\; margin: 0px\; outline: 0px\; padding: 0px\; vertical-align: baseline\; -webkit-tap-highlight-color: rgba(0\, 0\, 0\, 0)\; display: block\; text-align: initial\; box-sizing: inherit\;"><span style="background: transparent\; border: 0px\; margin: 0px\; outline: 0px\; padding: 0px\; vertical-align: baseline\; -webkit-tap-highlight-color: rgba(0\, 0\, 0\, 0)\; box-sizing: inherit\; font-weight: 700\;">Greg Young\, M.Div. CCISM</span></span></p>\n\n<p class="fxTZ7 fvFfv lRgAI xFml2" dir="auto" id="viewer-9q5dy1346" style="background: transparent\; border: 0px\; margin: 0px\; outline: 0px\; padding: 0px\; vertical-align: baseline\; -webkit-tap-highlight-color: rgba(0\, 0\, 0\, 0)\; color: rgb(49\, 49\, 43)\; font-family: avenir-lt-w01_35-light1475496\, sans-serif\; font-size: 16px\; line-height: 1.5\; min-height: auto\; text-align: initial\; box-sizing: inherit\; white-space-collapse: preserve\;"><span class="zzOoR" style="background: transparent\; border: 0px\; margin: 0px\; outline: 0px\; padding: 0px\; vertical-align: baseline\; -webkit-tap-highlight-color: rgba(0\, 0\, 0\, 0)\; display: block\; text-align: initial\; box-sizing: inherit\;"><span style="background: rgba(0\, 0\, 0\, 0)\; border: 0px\; margin: 0px\; outline: 0px\; padding: 0px\; vertical-align: baseline\; -webkit-tap-highlight-color: rgba(0\, 0\, 0\, 0)\; box-sizing: inherit\;">Greg Young serves as Head Chaplain and Critical Incident Stress Debriefer for the Germantown Police Department and pastor of a Congregational Church in Germantown\, WI. With degrees from Purdue University and United Theological Seminary\, and clinical training in pastoral psychotherapy\, he has extensive experience supporting first responders and communities in crisis.</span></span></p>\n</div>\n
LOCATION:Germantown Community Library N112W16957 Mequon Rd Germantown
UID:e.2331.10306
SEQUENCE:3
DTSTAMP:20260421T125901Z
URL:https://www.germantownchamber.org/events/details/when-right-wrong-collide-living-with-moral-trauma-germantown-community-coalition-10306
END:VEVENT

END:VCALENDAR
