BEGIN:VCALENDAR
VERSION:2.0
PRODID:-//ChamberMaster//Event Calendar 2.0//EN
METHOD:PUBLISH
X-PUBLISHED-TTL:P3D
REFRESH-INTERVAL:P3D
CALSCALE:GREGORIAN
BEGIN:VEVENT
DTSTART:20200515T130000Z
DTEND:20200515T140000Z
X-MICROSOFT-CDO-ALLDAYEVENT:FALSE
SUMMARY:WIN Washington County Interactive Networking
DESCRIPTION:A joint networking event cosponsored by the Germantown\, Hartford and West Bend Chambers of Commerce. Each attendee has the opportunity to give a 30-second commercial on themselves\, their business and/or a special promotion they are offering to the entire group.\n\nThis time we will be doing a Zoom Meeting!  It is free all you have to do is click on the link.\n\nHow it works:\n\nRegister here on our website and an e-mail with a link to the meeting and instructions will be sent to you.\n\nBecause of security considerations please do not share this link with anyone.\n\nREQUIRED:\n\nLaptop/Desktop with camera and microphone\, OR an android or iPhone\n\nPatience with this new approach.\n\nMust login to Zoom meeting using same e-mail you signed up with.
X-ALT-DESC;FMTTYPE=text/html:<p>A joint networking event cosponsored by the Germantown\, Hartford and West Bend Chambers of Commerce. Each attendee has the opportunity to give a 30-second commercial on themselves\, their business and/or a special promotion they are offering to the entire group.<br />\nThis time we will be doing a Zoom Meeting!&nbsp\; It is free all you have to do is click on the link.<br />\nHow it works:<br />\nRegister here on our website and an e-mail with a link to the meeting and instructions will be sent to you.<br />\nBecause of security considerations please do not share this link with anyone.<br />\nREQUIRED:<br />\nLaptop/Desktop with camera and microphone\, OR an android or iPhone<br />\nPatience with this new approach.<br />\nMust login to Zoom meeting using same e-mail you signed up with.</p>\n
LOCATION:In your own office\, home or wherever you find yourself working from lately! During non-Safer at Home times\, the location for WIN breakfasts changes each month between the three communities represented by the sponsoring chambers.
UID:e.2331.206
SEQUENCE:3
DTSTAMP:20260425T112830Z
URL:https://www.germantownchamber.org/events/details/win-washington-county-interactive-networking-05-15-2020-206
END:VEVENT

END:VCALENDAR
